BEGIN:VCALENDAR
VERSION:2.0
PRODID:-//YuTantra - ECPv6.15.20//NONSGML v1.0//EN
CALSCALE:GREGORIAN
METHOD:PUBLISH
X-WR-CALNAME:YuTantra
X-ORIGINAL-URL:https://staging.yutantra.com/es
X-WR-CALDESC:Eventos para YuTantra
REFRESH-INTERVAL;VALUE=DURATION:PT1H
X-Robots-Tag:noindex
X-PUBLISHED-TTL:PT1H
BEGIN:VTIMEZONE
TZID:Europe/Madrid
BEGIN:DAYLIGHT
TZOFFSETFROM:+0100
TZOFFSETTO:+0200
TZNAME:CEST
DTSTART:20250330T010000
END:DAYLIGHT
BEGIN:STANDARD
TZOFFSETFROM:+0200
TZOFFSETTO:+0100
TZNAME:CET
DTSTART:20251026T010000
END:STANDARD
BEGIN:DAYLIGHT
TZOFFSETFROM:+0100
TZOFFSETTO:+0200
TZNAME:CEST
DTSTART:20260329T010000
END:DAYLIGHT
BEGIN:STANDARD
TZOFFSETFROM:+0200
TZOFFSETTO:+0100
TZNAME:CET
DTSTART:20261025T010000
END:STANDARD
BEGIN:DAYLIGHT
TZOFFSETFROM:+0100
TZOFFSETTO:+0200
TZNAME:CEST
DTSTART:20270328T010000
END:DAYLIGHT
BEGIN:STANDARD
TZOFFSETFROM:+0200
TZOFFSETTO:+0100
TZNAME:CET
DTSTART:20271031T010000
END:STANDARD
END:VTIMEZONE
BEGIN:VTIMEZONE
TZID:Europe/Lisbon
BEGIN:DAYLIGHT
TZOFFSETFROM:+0000
TZOFFSETTO:+0100
TZNAME:WEST
DTSTART:20250330T010000
END:DAYLIGHT
BEGIN:STANDARD
TZOFFSETFROM:+0100
TZOFFSETTO:+0000
TZNAME:WET
DTSTART:20251026T010000
END:STANDARD
BEGIN:DAYLIGHT
TZOFFSETFROM:+0000
TZOFFSETTO:+0100
TZNAME:WEST
DTSTART:20260329T010000
END:DAYLIGHT
BEGIN:STANDARD
TZOFFSETFROM:+0100
TZOFFSETTO:+0000
TZNAME:WET
DTSTART:20261025T010000
END:STANDARD
BEGIN:DAYLIGHT
TZOFFSETFROM:+0000
TZOFFSETTO:+0100
TZNAME:WEST
DTSTART:20270328T010000
END:DAYLIGHT
BEGIN:STANDARD
TZOFFSETFROM:+0100
TZOFFSETTO:+0000
TZNAME:WET
DTSTART:20271031T010000
END:STANDARD
END:VTIMEZONE
BEGIN:VTIMEZONE
TZID:Europe/London
BEGIN:DAYLIGHT
TZOFFSETFROM:+0000
TZOFFSETTO:+0100
TZNAME:BST
DTSTART:20250330T010000
END:DAYLIGHT
BEGIN:STANDARD
TZOFFSETFROM:+0100
TZOFFSETTO:+0000
TZNAME:GMT
DTSTART:20251026T010000
END:STANDARD
BEGIN:DAYLIGHT
TZOFFSETFROM:+0000
TZOFFSETTO:+0100
TZNAME:BST
DTSTART:20260329T010000
END:DAYLIGHT
BEGIN:STANDARD
TZOFFSETFROM:+0100
TZOFFSETTO:+0000
TZNAME:GMT
DTSTART:20261025T010000
END:STANDARD
BEGIN:DAYLIGHT
TZOFFSETFROM:+0000
TZOFFSETTO:+0100
TZNAME:BST
DTSTART:20270328T010000
END:DAYLIGHT
BEGIN:STANDARD
TZOFFSETFROM:+0100
TZOFFSETTO:+0000
TZNAME:GMT
DTSTART:20271031T010000
END:STANDARD
END:VTIMEZONE
BEGIN:VEVENT
DTSTART;TZID=Europe/Madrid:20260527T080000
DTEND;TZID=Europe/Madrid:20260531T170000
DTSTAMP:20260421T120244
CREATED:20260330T165724Z
LAST-MODIFIED:20260330T165724Z
UID:13929-1779868800-1780246800@staging.yutantra.com
SUMMARY:Portugal Tantra Festival 2026
DESCRIPTION:Tantra Workshops\, Biodanza\, Yoga\, Music\, Dance.\nIn May 2026\, the beautiful european hillsides of Quinta São José dos Montes will be transformed into a vibrant celebration of the best of Tantra and free natural living. \nYou will be part of a group of wonderful people\, surrounded by beautiful nature and tasty vegetarian food. You will also find some of the best International Facilitators \, Musicians \, DJs and Healing Team. Above all\, they are there to support you. \nDuring your 5 day experience\, you will be creating more intimacy in yourself\, with life and in your relationships. You can choose to learn with Tantra Workshops\, Biodanza Workshops\, Yoga Classes\, Active Meditations and Sharing Groups. After that\, you can enjoy Live Concerts\, International DJs or Sacred Ceremonies. \nCOST: €625 – €775 \nINFO & BOOKING: tantrafestivalportugal.com
URL:https://staging.yutantra.com/es/event/portugal-tantra-festival-2026/
LOCATION:Portugal Tantra Festival\, Estrada dos Montes\, Nº1342\, Quinta São Jose dos Montes\, 300-087\, Portugal
CATEGORIES:Tantra Festivals
ATTACH;FMTTYPE=image/jpeg:https://staging.yutantra.com/wp-content/uploads/2026/03/Screenshot-2026-03-30-at-18.54.08.jpg
END:VEVENT
BEGIN:VEVENT
DTSTART;TZID=Europe/Lisbon:20260527T080000
DTEND;TZID=Europe/Lisbon:20260601T170000
DTSTAMP:20260421T120244
CREATED:20260107T110314Z
LAST-MODIFIED:20260107T111503Z
UID:13160-1779868800-1780333200@staging.yutantra.com
SUMMARY:Tantra Illuminated Responsive Retreat – Portugal 2026
DESCRIPTION:Experience a Transformative Retreat in the Algarve\, Portugal\nEmbark on a profound journey of self-discovery at our transformative retreat nestled in the stunning landscape of Mount Madonna\, California. Surrounded by lush forests\, breathtaking vistas\, and a serene atmosphere\, this retreat invites you to step into a space of deep practice\, contemplation and community. \nOur responsive retreats adapt to the energy and needs of the group as the retreat unfolds\, ensuring a personalized experience that emphasizes connection with both yourself and the kula. At the core of the retreat are the teachings of non-dual Shaiva Tantra\, crafted to deepen your exploration\, understanding and realization of awakening. \nWhile each day in a responsive retreat is unique\, throughout the retreat\, we will delve into a rich variety of topics from the Tantric philosophies\, and engage in energy body practices that cultivate greater awareness and a deeper intimacy with reality. We will also explore the practice of mantra and potentially dive into some textual study\, allowing these profound teachings to illuminate and deepen our practice. There will also be embodiment and somatic awareness sessions to help integrate your experiences. \nAdditionally\, you will have the opportunity to connect with our kula\, and foster meaningful relationships allowing you to build a supportive network for your ongoing journey. \nJoin us in the serene beauty of Monte Velho\, Algarve\, Portugal\, as we embark on this enriching exploration together\, nurturing our understanding of the sacred traditions and practices of Classical Tantra. \nDATE: May 27th – June 1st\, 2026 \nLOCATION: Monte Velho Retreat Center\, Algarve\, Portugal \nCOST: 950€
URL:https://staging.yutantra.com/es/event/tantra-illuminated-responsive-retreat-portugal-2026/
LOCATION:Chris Wallis Algarve Portugal\, Monte Velho Retreat Centre\, Carrapateira\, Algarve\, 8670-230\, Portugal
CATEGORIES:Retreat
ATTACH;FMTTYPE=image/jpeg:https://staging.yutantra.com/wp-content/uploads/2026/01/Responsive-Retreat-Portugal-1.jpg
END:VEVENT
BEGIN:VEVENT
DTSTART;TZID=Europe/London:20260724T080000
DTEND;TZID=Europe/London:20260729T170000
DTSTAMP:20260421T120244
CREATED:20260107T111210Z
LAST-MODIFIED:20260107T111322Z
UID:13167-1784880000-1785344400@staging.yutantra.com
SUMMARY:Tantra Illuminated UK Retreat 2026
DESCRIPTION:Embark on a journey of self-discovery with our transformative retreat.\n\n\n\n\n\n\n\n\nThis retreat will take place at The Vedanta\, nestled amongst 75 acres of woodlands\, meadows and lakes in the English countryside. \nOur responsive retreats adapt to the energy and needs of the group as the retreat unfolds\, ensuring a personalized experience that emphasizes connection with both yourself and the kula. At the core of the retreat are the teachings of non-dual Shaiva Tantra\, crafted to deepen your exploration\, understanding and realization of awakening. \nWhile each day in a responsive retreat is unique\, throughout the retreat\, we will delve into a rich variety of topics from the Tantric philosophies\, and engage in energy body practices that cultivate greater awareness and a deeper intimacy with reality. We will also explore the practice of mantra and potentially dive into some textual study\, allowing these profound teachings to illuminate and deepen our practice. There will also be embodiment and somatic awareness sessions to help integrate your experiences. \nAdditionally\, you will have the opportunity to connect with our kula\, and foster meaningful relationships allowing you to build a supportive network for your ongoing journey. \nJoin us in the serene beauty of the Vedanta\, Lincoln\, UK as we embark on this enriching exploration together\, nurturing our understanding of the sacred traditions and practices of Classical Tantra. \nYour booking includes retreat tuition\, accommodation and delicious vegetarian meals. \nDATES: July 24th – 29th\, 2026 \nLOCATION: Lincoln\, UK \nCOST: Starting from €1\,020 \nINFO & BOOKING: https://www.tantrailluminated.org/calendar/save-the-date-uk-2026
URL:https://staging.yutantra.com/es/event/tantra-illuminated-uk-retreat-2026/
LOCATION:The Vedanta (Tantra Illuminated in Lincoln)\, Lincoln Road\, Branston\, Lincoln\, 5GV 8JX\, United Kingdom
CATEGORIES:Retreat
ATTACH;FMTTYPE=image/jpeg:https://staging.yutantra.com/wp-content/uploads/2026/01/UK-Retreat.jpg
END:VEVENT
BEGIN:VEVENT
DTSTART;TZID=Europe/Madrid:20260805T080000
DTEND;TZID=Europe/Madrid:20260809T170000
DTSTAMP:20260421T120244
CREATED:20260330T172016Z
LAST-MODIFIED:20260330T172222Z
UID:13940-1785916800-1786294800@staging.yutantra.com
SUMMARY:Netherlands Tantra Festival – Awaken as Love
DESCRIPTION:Welcome to Awaken as Love Events in Holland.\nImagine yourself in a place surrounded by beautiful nature\, tasty organic food and some of the best international & national facilitators who would be there to support you in creating more intimacy in yourself\, with life and in your relationships. Having a more vibrant and exciting life away from the normal constraints of our lives and minds. Meaningful and truthful\, loving and bliss and connection to others. \nAn English speaking Festival with a workshop quality\, going on a deep journey together\, and celebrate! Imagine being held in this field of experiences in the festival\, supporting each other and getting tools to take it back into your lives so the changes remain. \n\n\n\n\n\nAm I Welcome?\nYes! We embrace all relationship styles\, orientations and ages over 18. Whether you are single and wanting to interact and explore with others— or a couple wishing to deepen your intimacy\, the tantra festival is the perfect environment to dive in! \nWho is holding it?\n\nThe festival is held by James Stevenson (from Awaken as Love) with a team of International Workshop Leaders\, Session Givers\, Emotional Support Crew\, DJs and Performers\, Volunteers and Retreat Centre Workers. \nWhere is it?\n\nThe Festival is held at Kasteel de Berckt – an historic castle in Limburg\, set in incredible grounds the countryside of the Netherlands with beautiful forests on the doorstep\, quality workshop spaces\, and healthy vegetarian food. \nCOST: from €600 – €1790 \nINFO & BOOKING: https://tantra-festival.com/tantra-festival-2/
URL:https://staging.yutantra.com/es/event/netherlands-tantra-festival-awaken-as-love-2/
LOCATION:Tantra Festival Netherlands 2024\, Kasteel De Berckt\, De Berckt 1\, Baarlo\, 5991\, Netherlands
CATEGORIES:Tantra Festivals
ATTACH;FMTTYPE=image/jpeg:https://staging.yutantra.com/wp-content/uploads/2026/03/Screenshot-2026-03-30-at-19.17.27.jpg
END:VEVENT
BEGIN:VEVENT
DTSTART;TZID=Europe/Madrid:20260906T080000
DTEND;TZID=Europe/Madrid:20260911T170000
DTSTAMP:20260421T120244
CREATED:20260330T171111Z
LAST-MODIFIED:20260330T172257Z
UID:13935-1788681600-1789146000@staging.yutantra.com
SUMMARY:Corfu Tantra Festival 2026
DESCRIPTION:Step into a world of sensorial delight and profound connection at the Corfu Tantra Festival\, Europe’s most anticipated event of its kind. Join us on the enchanting island of Corfu for an exquisite experience that will ignite your senses and elevate your sensorial & spiritual journey. \nAwaken Meditative Pleasure\nThe Corfu Tantra Festival is your gateway to a realm of sensuality\, grace\, and energy. Immerse yourself in a cocoon of care and experience the transformative power of tantra. Engage in workshops and activities designed to expand your inner pleasure and tap into a deeper connection with yourself and the universe. \nExplore Your Sacred Sensuality\nIndulge in a sensorial journey that transcends the ordinary body to a sensual bliss. The Corfu Tantra Festival invites you to explore the realms of spirituality and discover new dimensions of consciousness. Through sacred rituals\, meditation\, and transformative practices\, you will embark on a path of self-discovery and spiritual expansion of Bodymind and beyond. \nExperience Intimacy and Connection\nIn this safe and loving space\, forge intimate connections with like-minded individuals who share your passion for self-exploration and personal growth. Engage in conscious touch\, heartfelt conversations\, and authentic connections that go beyond the surface. The Corfu Tantra Festival is where deep bonds are formed\, and relationships flourish. \nCelebrate Life at the Tantra Festival 2024\nJoin us in celebrating life\, love\, and the beauty of human connection at the Corfu Tantra Festival 2024. Indulge in a rich tapestry of experiences\, from immersive workshops to captivating performances. Discover the joy of dance\, music\, and art as they intertwine with Tantra’s transformative power. \nBe part of this extraordinary event that will leave you feeling inspired\, revitalised\, and connected. Reserve your place at the Corfu Tantra Festival now and unlock a world of sensuality\, grace\, and profound connection. Welcome to a festival where discovery\, enjoyment\, and personal growth intertwine in perfect harmony. \nCOST: €710 – €1880 \nINFO & BOOKING: https://www.corfutantrafestival.com/ \n 
URL:https://staging.yutantra.com/es/event/corfu-tantra-festival-2026/
LOCATION:Corfu Tantra Festival\, Corfu Buddha Hall\, Magoulades\, Corfu Island\, 49081\, Greece
CATEGORIES:Tantra Festivals
ATTACH;FMTTYPE=image/jpeg:https://staging.yutantra.com/wp-content/uploads/2026/03/Screenshot-2026-03-30-at-19.07.13.jpg
END:VEVENT
BEGIN:VEVENT
DTSTART;TZID=Europe/Madrid:20261024T080000
DTEND;TZID=Europe/Madrid:20261029T170000
DTSTAMP:20260421T120244
CREATED:20260330T153935Z
LAST-MODIFIED:20260330T153935Z
UID:13924-1792828800-1793293200@staging.yutantra.com
SUMMARY:Mallorca Tantra Fest 2026
DESCRIPTION:EL ÚNICO FESTIVAL DE TANTRA EN EUROPA DE HABLA HISPANA\nDEL 24 AL 29 DE OCTUBRE DEL 2026 en Mallorca. \nEn octubre 2026 del 24 al 29 estaremos de festival\, una celebración de vida\, una reunión de amantes y amigos\, un derroche de amor y juego. \nEn el Mallorca Tantra Fest ocurre algo que no siempre es fácil de encontrar fuera: \nla sensación de pertenecer. \nPoco a poco\, sin forzarlo\, se va creando una tribu. \nNo desde la idea de grupo\, sino desde la experiencia real de encuentro. \nPersonas que llegan desde lugares distintos\, con historias distintas… y que empiezan a reconocerse en lo esencial: en la vulnerabilidad\, en la apertura\, en el deseo de vivir con más verdad. \nAquí no hace falta encajar. \nNo hay que demostrar nada. \nY precisamente por eso\, los vínculos que se crean son más auténticos. \nCompartes miradas que sostienen\, abrazos que regulan\, conversaciones que atraviesan lo superficial y llegan a lo que de verdad importa. \nEl sistema nervioso empieza a relajarse. \nEl cuerpo se abre. \nY desde ahí\, conectar deja de ser un esfuerzo y se vuelve algo natural. \nLa tribu no se construye desde la perfección\, sino desde la humanidad: desde poder mostrarse tal y como uno es\, y ser recibido con respeto\, presencia y cuidado. \nY eso transforma. \nPorque cuando te sientes visto y aceptado\, algo dentro de ti cambia. \nSe suavizan las defensas. \nSe abre el corazón. \nY aparece una forma de estar en el mundo más conectada\, más amorosa. \nMuchas personas llegan solas… y se van sintiendo que forman parte de algo. \nEso es la tribu del Mallorca Tantra Fest. \nUn espacio donde recordar que no estamos solos en este camino. \n¡No te lo pierdas\, quedan pocas plazas! \nPRECIO: Desde 990€ \nINFO y RESERVAS: mallorcatantrafest.com
URL:https://staging.yutantra.com/es/event/mallorca-tantra-fest-2026/
LOCATION:Mallorca Tantra Fest – Hotel Valentín Playa de Muro\, Mallorca\, Balearic Islands\, Spain
CATEGORIES:Tantra Festivals
ATTACH;FMTTYPE=image/jpeg:https://staging.yutantra.com/wp-content/uploads/2026/03/277763436_100328399323235_7877979458004026699_n.jpg
END:VEVENT
BEGIN:VEVENT
DTSTART;TZID=Europe/Madrid:20261026T180000
DTEND;TZID=Europe/Madrid:20261101T150000
DTSTAMP:20260421T120244
CREATED:20260330T151039Z
LAST-MODIFIED:20260330T151138Z
UID:13918-1793037600-1793545200@staging.yutantra.com
SUMMARY:Ibiza Tantra Festival 2026
DESCRIPTION:Ibiza Tantra Festival 2026 travels to MALLORCA!\nThe magical experience of the one and only Ibiza Tantra Festival welcomes you again October 26th – November 1st\, 2026 for an exciting immersion into Tantra under the guidance of the world’s top tantra teachers! \nWorkshops\, blissful meditations\, yoga\, dance sessions\, encounters\, and nights of utterly enjoyable happenings – to be experienced under the inspiration of the theme of the year: \nENJOY THE EXPERIENCE AT A LUXURY RESORT EXCLUSIVELY RESERVED FOR THE IBIZA TANTRA FESTIVAL TRIBE:\nA beautiful resort in Mallorca: pools\, spa\, jacuzzis\, chill-out terraces. \nWe have selected some of the best Tantra teachers in the world to design a full Tantric immersion experience: Every day you will have a wide variety of workshops to choose from\, with different levels of intimacy and depth. This year we have also invited some more Tantra teachers who are couples\, to create a special space for couples to deepen their intimacy. Each teacher has its own unique essence and flavor to share. \nWe take celebration seriously: That’s why our night program is absolutely mind-blowing: Ecstatic Dance by famous DJs\, internationally acclaimed Musicians and Performers\, Sound Meditation\, Variety Night\, Fire Dancers\, and our unforgettable Closing Party. \nTANTRA FESTIVAL: THE POWER OF NOW\nWhat if you would say “yes” to each moment as it comes? \nNon doubting\, unless doubt is there\, \nnon thinking unless thoughts visit your mind… \nWhat if you would simply become life force expressing itself\nmoment to moment in the ocean of Consciousness?\nThis year we invite you “to Be”.\nTo fully embody whatever arises within you:\nBe movement\, be stillness\nbe joy\, be pain\nbe laughter\, be tears\nbe feminine\, be masculine\nBe ugly\, be stunning! \nAre you ready to allow your soul to express itself fully? \nLooking forward to celebrate with you once more! \nSantoshi & IBTF Team \nCOST: €800 – €2100 \nINFO & BOOKING: https://ibizatantrafestival.com
URL:https://staging.yutantra.com/es/event/ibiza-tantra-festival-2026/
LOCATION:Ibiza Tantra Festival\, Mallorca\, Balearic Islands\, Spain
CATEGORIES:Tantra Festivals
ATTACH;FMTTYPE=image/jpeg:https://staging.yutantra.com/wp-content/uploads/2026/03/627472460_1473085278156916_5654604844544111420_n.jpg
END:VEVENT
END:VCALENDAR